BEGIN:VCALENDAR
VERSION:2.0
PRODID:-//wp-events-plugin.com//7.2.3.1//EN
TZID:Asia/Kolkata
X-WR-TIMEZONE:Asia/Kolkata
BEGIN:VEVENT
UID:23@bhasinsports.com
DTSTART;TZID=Asia/Kolkata:20250912T150000
DTEND;TZID=Asia/Kolkata:20250914T180000
DTSTAMP:20250616T073418Z
URL:https://bhasinsports.com/events/hennur-bamboo-ultra-2025/
SUMMARY:Hennur Bamboo Ultra 2025
DESCRIPTION:Date(s)\, start time and cutoff time:\n\n 	220K - 12th Septembe
 r 3:00 pm - 49 hrs\n 	161K - 12th September 3:00 pm - 36 hrs\n 	100K - 13t
 h September 6:00 am - 24 hrs\n 	80K - 13th September 6:00 am - 20 hrs\n 	5
 0K - 13th September 6:00 am - 10 hrs\n 	30K - 13th / 14th September 6:15 a
 m - 6 hrs\n 	20K - 13th / 14th  September 6:30 am - 4 hrs\n 	10K - 13th 
 / 14th  September 6:45 am - 2 hrs\n 	5K - 13th / 14th  September 7:00 a
 m - 1.5 hrs\n\nWhat's included in the cost?\n\n 	Hydration\, Nutrition\n 	
 Medical Aid\n 	Timing (all distances are timed)\n 	Finisher Medal / Buckle
 \n 	eCertificate\n 	Beds for resting (only during the category run time) f
 or categories 100K and above\n\n 	If you need beds before or after the ru
 n times please purchase the accommodation separately\n\n\n 	Meals as per y
 our category:\n\n 	220K\n\n 	All meals during the run\n\n\n 	161K\n\n 	12t
 h September - Dinner\n 	13th September - Breakfast\, Lunch\, Dinner\n 	14t
 h September - Breakfast\n\n\n 	100K\, 80K\n\n 	Breakfast\, Lunch\, Dinner 
 on the day of run\n\n\n 	50K\n\n 	Breakfast\, Lunch on the day of run\n\n\
 n 	30K\, 20K\, 10K\, 5K\n\n 	Breakfast on the day of run\n\n\n\n\n\nFamily
  &amp\; Friends &amp\; Pacers can buy meal coupons at the venue. Pacers ne
 ed to be registered runners to be on the track.\n\nFinisher TShirts\, Sing
 lets and gels\, protein\, etc from Fast&amp\;Up are optional and can be pu
 rchased as addons.\n\nLimited stay options are available - Tented accommod
 ation on twin sharing basis with bathroom facility at the race venue. Incl
 udes dinner for the day of accommodation.\n\nTrail: Trail is a flat\, 10K 
 loop (shortened to a shorter in the night).\n\nPartners:\n\n 	Medical Part
 ner: Narayana Nethralaya\n 	Physiotherapy Partner: Perfect Bounce\n 	Energ
 y Partner: Fast&amp\;Up\n 	Venue Partner: Karnataka Forest Department\n\nC
 ompany Website: https://www.bhasinsports.com\n\nPlease Note: We follow a N
 O REFUND policy. Tickets once purchased cannot be cancelled / transferred.
 \nRegister\n
ATTACH;FMTTYPE=image/jpeg:https://bhasinsports.com/wp-content/uploads/2025
 /05/1920x1080.jpg
CATEGORIES:Hennur Bamboo Ultra
LOCATION:Marasandra Forest (Hennur Bamboo Forest)\, 4M2R+MCP\, Bengaluru\, 
 Karnataka\, India
GEO:13.101713;77.691078
X-APPLE-STRUCTURED-LOCATION;VALUE=URI;X-ADDRESS=4M2R+MCP\, Bengaluru\, Karn
 ataka\, India;X-APPLE-RADIUS=100;X-TITLE=Marasandra Forest (Hennur Bamboo 
 Forest):geo:13.101713,77.691078
END:VEVENT
BEGIN:VTIMEZONE
TZID:Asia/Kolkata
X-LIC-LOCATION:Asia/Kolkata
BEGIN:STANDARD
DTSTART:20240912T150000
TZOFFSETFROM:+0530
TZOFFSETTO:+0530
TZNAME:IST
END:STANDARD
END:VTIMEZONE
END:VCALENDAR