BEGIN:VCALENDAR
VERSION:2.0
PRODID:-//wp-events-plugin.com//7.2.3.1//EN
TZID:Asia/Kolkata
X-WR-TIMEZONE:Asia/Kolkata
BEGIN:VEVENT
UID:5@bhasinsports.com
DTSTART;TZID=Asia/Kolkata:20241004T150000
DTEND;TZID=Asia/Kolkata:20241006T170000
DTSTAMP:20250616T064807Z
URL:https://bhasinsports.com/events/hennur-bamboo-ultra-2024/
SUMMARY:Hennur Bamboo Ultra 2024
DESCRIPTION:Last Date for Registration: 11:30pm\, 08 September\, 2024\n\nDa
 te(s)\, start time and cutoff time:\n\n 	220K - 4th October 3:00 pm - 49 h
 rs\n 	161K - 4th October 3:00 pm - 36 hrs\n 	100K - 5th October 6:00 am - 
 24 hrs\n 	80K - 5th October 6:00 am - 20 hrs\n 	50K - 6th October 6:00 am 
 - 10 hrs\n 	30K - 6th October 6:15 am - 6 hrs\n 	20K - 6th October 6:30 am
  - 4 hrs\n 	10K - 6th October 6:45 am - 2 hrs\n 	5K - 6th October 7:00 a
 m - 1.5 hrs\n\nWhat's included in the cost?\n\n 	Hydration\, Nutrition\n 	
 Medical Aid\n 	Timing (all distances are timed)\n 	Finisher Medal / Buckle
 \n 	eCertificate\n 	Beds for resting (only during the category run time) f
 or categories 100K and above\n\n 	If you need beds before or after the ru
 n times please purchase the accommodation separately\n\n\n 	Meals as per y
 our category:\n\n 	220K\n\n 	All meals during the run\n\n\n 	161K\n\n 	4th
  October - Dinner\n 	5th October - Breakfast\, Lunch\, Dinner\n 	6th Octob
 er - Breakfast\n\n\n 	100K\n\n 	5th October - Breakfast\, Lunch\, Dinner\n
  	6th October - Breakfast\n\n\n 	80K\n\n 	5th October - Breakfast\, Lunch\
 , Dinner\n\n\n 	50K\n\n 	6th October - Breakfast\, Lunch\n\n\n 	30K\, 20K\
 , 10K\, 5K\n\n 	6th October - Breakfast\n\n\n\n\n\nFamily &amp\; Friends &
 amp\; Pacers can buy meal coupons at the venue.\n\nFinisher TShirts\, Sing
 lets and gels\, protein\, etc from Fast&amp\;Up are optional and can be pu
 rchased as add-ons.\n\nLimited stay options are available - Tented accommo
 dation on twin sharing basis with shower and bathroom facility at the race
  venue. Includes dinner for the day of accommodation.\n\nTrail: Trail is a
  flat\, 10K loop (shortened to 2K in the night).\n\nPartners:\n\n 	Medical
  Partner: Narayana Nethralaya\n 	Physiotherapy Partner: Perfect Bounce\n 	
 Energy Partner: Fast&amp\;Up\n 	Venue Partner: Karnataka Forest Department
 \n\nPlease Note: We follow a NO REFUND policy. Tickets once purchased cann
 ot be cancelled / transferred.
ATTACH;FMTTYPE=image/jpeg:https://bhasinsports.com/wp-content/uploads/2024
 /04/HBU24-1920x1080-1.jpg
CATEGORIES:Hennur Bamboo Ultra
LOCATION:Marasandra Forest (Hennur Bamboo Forest)\, 4M2R+MCP\, Bengaluru\, 
 Karnataka\, India
GEO:13.101713;77.691078
X-APPLE-STRUCTURED-LOCATION;VALUE=URI;X-ADDRESS=4M2R+MCP\, Bengaluru\, Karn
 ataka\, India;X-APPLE-RADIUS=100;X-TITLE=Marasandra Forest (Hennur Bamboo 
 Forest):geo:13.101713,77.691078
END:VEVENT
BEGIN:VTIMEZONE
TZID:Asia/Kolkata
X-LIC-LOCATION:Asia/Kolkata
BEGIN:STANDARD
DTSTART:20231005T150000
TZOFFSETFROM:+0530
TZOFFSETTO:+0530
TZNAME:IST
END:STANDARD
END:VTIMEZONE
END:VCALENDAR